BEGIN:VCALENDAR
VERSION:2.0
PRODID:-//Onderwatergroep Neptunus//NONSGML kigkonsult.se iCalcreator 2.30.
 10//
CALSCALE:GREGORIAN
METHOD:PUBLISH
UID:541ba3a2-9aa1-4fa1-8a8d-b4684a8ba40a
X-WR-CALNAME:iCagenda
X-WR-CALDESC:Event Management Extension for Joomla!
X-WR-RELCALID:3E26604A-50F4-4449-8B3E-E4F4932D05B5
X-WR-TIMEZONE:Europe/Amsterdam
BEGIN:VTIMEZONE
TZID:Europe/Amsterdam
BEGIN:STANDARD
TZNAME:CET
DTSTART:20181028T030000
TZOFFSETFROM:+0200
TZOFFSETTO:+0100
RDATE:20191027T030000
END:STANDARD
BEGIN:DAYLIGHT
TZNAME:CEST
DTSTART:20190331T020000
TZOFFSETFROM:+0100
TZOFFSETTO:+0200
RDATE:20200329T020000
END:DAYLIGHT
END:VTIMEZONE
BEGIN:VEVENT
UID:2343bbbd-dce5-4d86-a3ab-605f5efd4135
DTSTAMP:20260420T192108Z
CATEGORIES:Opleidingen Zwembad
CLASS:PUBLIC
DESCRIPTION:
DTSTART:20190330T160000Z
DTEND:20190330T170000Z
GEO:00;0
LOCATION:Twentebad
ORGANIZER:
SEQUENCE:1
SUMMARY:Snorkelles
TRANSP:OPAQUE
URL:https://www.owg-neptunus.nl/index.php/component/icagenda/472-snorkelles
 ?Itemid=101
END:VEVENT
END:VCALENDAR
