BEGIN:VCALENDAR
VERSION:2.0
PRODID:-//Onderwatergroep Neptunus//NONSGML kigkonsult.se iCalcreator 2.30.
 10//
CALSCALE:GREGORIAN
METHOD:PUBLISH
UID:d3762665-de21-454a-8545-4c330ea3aacc
X-WR-CALNAME:iCagenda
X-WR-CALDESC:Event Management Extension for Joomla!
X-WR-RELCALID:3E26604A-50F4-4449-8B3E-E4F4932D05B5
X-WR-TIMEZONE:Europe/Amsterdam
BEGIN:VTIMEZONE
TZID:Europe/Amsterdam
BEGIN:STANDARD
TZNAME:CET
DTSTART:20181028T030000
TZOFFSETFROM:+0200
TZOFFSETTO:+0100
RDATE:20191027T030000
END:STANDARD
BEGIN:DAYLIGHT
TZNAME:CEST
DTSTART:20190331T020000
TZOFFSETFROM:+0100
TZOFFSETTO:+0200
RDATE:20200329T020000
END:DAYLIGHT
END:VTIMEZONE
BEGIN:VEVENT
UID:437bb66b-e5a9-4967-9ec2-f0d59ee0984f
DTSTAMP:20260420T191447Z
CATEGORIES:Opleidingen Belangrijk
CLASS:PUBLIC
DESCRIPTION:
DTSTART:20190413T133000Z
DTEND:20190413T150000Z
GEO:00;0
LOCATION:Twentebad
ORGANIZER:
SEQUENCE:1
SUMMARY:Opleidingsprogramma 1*
TRANSP:OPAQUE
URL:https://www.owg-neptunus.nl/index.php/component/icagenda/454-opleidings
 programma-1?Itemid=101
END:VEVENT
END:VCALENDAR
