BEGIN:VCALENDAR
VERSION:2.0
PRODID:-//Onderwatergroep Neptunus//NONSGML kigkonsult.se iCalcreator 2.30.
 10//
CALSCALE:GREGORIAN
METHOD:PUBLISH
UID:d3a41a97-18f6-4aa9-84b7-f553cc5ccaac
X-WR-CALNAME:iCagenda
X-WR-CALDESC:Event Management Extension for Joomla!
X-WR-RELCALID:3E26604A-50F4-4449-8B3E-E4F4932D05B5
X-WR-TIMEZONE:Europe/Amsterdam
BEGIN:VTIMEZONE
TZID:Europe/Amsterdam
BEGIN:STANDARD
TZNAME:CET
DTSTART:20181028T030000
TZOFFSETFROM:+0200
TZOFFSETTO:+0100
RDATE:20191027T030000
END:STANDARD
BEGIN:DAYLIGHT
TZNAME:CEST
DTSTART:20180325T020000
TZOFFSETFROM:+0100
TZOFFSETTO:+0200
RDATE:20190331T020000
RDATE:20200329T020000
END:DAYLIGHT
END:VTIMEZONE
BEGIN:VEVENT
UID:dd6e21e4-6fae-48e6-babf-be809e7b29af
DTSTAMP:20260421T002024Z
CATEGORIES:Opleidingen Belangrijk
CLASS:PUBLIC
DESCRIPTION:
DTSTART:20190216T143000Z
DTEND:20190216T160000Z
GEO:+52.280735;+6.80131
LOCATION:Twentebad
ORGANIZER:
SEQUENCE:1
SUMMARY:Opleidingsprogramma 1*
TRANSP:OPAQUE
URL:https://www.owg-neptunus.nl/index.php/component/icagenda/450-opleidings
 programma-1?Itemid=101
END:VEVENT
END:VCALENDAR
