BEGIN:VCALENDAR
VERSION:2.0
PRODID:-//Onderwatergroep Neptunus//NONSGML kigkonsult.se iCalcreator 2.30.
 10//
CALSCALE:GREGORIAN
METHOD:PUBLISH
UID:0fcc67f5-36ec-4d55-bcd8-97b428aedb0c
X-WR-CALNAME:iCagenda
X-WR-CALDESC:Event Management Extension for Joomla!
X-WR-RELCALID:3E26604A-50F4-4449-8B3E-E4F4932D05B5
X-WR-TIMEZONE:Europe/Amsterdam
BEGIN:VTIMEZONE
TZID:Europe/Amsterdam
BEGIN:STANDARD
TZNAME:CET
DTSTART:20181028T030000
TZOFFSETFROM:+0200
TZOFFSETTO:+0100
RDATE:20191027T030000
END:STANDARD
BEGIN:DAYLIGHT
TZNAME:CEST
DTSTART:20180325T020000
TZOFFSETFROM:+0100
TZOFFSETTO:+0200
RDATE:20190331T020000
RDATE:20200329T020000
END:DAYLIGHT
END:VTIMEZONE
BEGIN:VEVENT
UID:7bb30c83-7122-40e9-a77a-598441764279
DTSTAMP:20260420T224602Z
CATEGORIES:Evenementen
CLASS:PUBLIC
DESCRIPTION;ALTREP="CID:<FFFF__=0ABBE548DFE235B58f9e8a93d@coffeebean.com>":
 24 leden van zwemclub Twickel uit Delden gaan onder begeleiding van ervare
 n duikers van Neptunus met perslucht onder water. Een eerste beleving om o
 nder water te zweven. Locatie recreatiebad Twentebad in Hengelo.
DTSTART:20190209T150000Z
DTEND:20190209T173000Z
GEO:+52.281654;+6.801224
LOCATION:Twentebad
ORGANIZER:
SEQUENCE:1
SUMMARY:Introductieduik Zwemclub Twickel
TRANSP:OPAQUE
URL:https://www.owg-neptunus.nl/index.php/component/icagenda/449-introducti
 eduik-zwemclub-twickel?Itemid=101
END:VEVENT
END:VCALENDAR
