BEGIN:VCALENDAR
VERSION:2.0
PRODID:-//Onderwatergroep Neptunus//NONSGML kigkonsult.se iCalcreator 2.30.
 10//
CALSCALE:GREGORIAN
METHOD:PUBLISH
UID:67bd0c46-225f-4016-a331-e1456660daf4
X-WR-CALNAME:iCagenda
X-WR-CALDESC:Event Management Extension for Joomla!
X-WR-RELCALID:3E26604A-50F4-4449-8B3E-E4F4932D05B5
X-WR-TIMEZONE:Europe/Amsterdam
BEGIN:VTIMEZONE
TZID:Europe/Amsterdam
BEGIN:STANDARD
TZNAME:CET
DTSTART:20181028T030000
TZOFFSETFROM:+0200
TZOFFSETTO:+0100
RDATE:20191027T030000
END:STANDARD
BEGIN:DAYLIGHT
TZNAME:CEST
DTSTART:20180325T020000
TZOFFSETFROM:+0100
TZOFFSETTO:+0200
RDATE:20190331T020000
RDATE:20200329T020000
END:DAYLIGHT
END:VTIMEZONE
BEGIN:VEVENT
UID:36635b7f-5041-4897-b405-417b11834ed0
DTSTAMP:20260421T002126Z
CATEGORIES:Opleidingen Zwembad
CLASS:PUBLIC
DESCRIPTION:
DTSTART:20190202T160000Z
DTEND:20190202T170000Z
GEO:+52.274879;+6.789551
LOCATION:Twentebad
ORGANIZER:
SEQUENCE:1
SUMMARY:Snorkelles
TRANSP:OPAQUE
URL:https://www.owg-neptunus.nl/index.php/component/icagenda/444-snorkelles
 ?Itemid=101
END:VEVENT
END:VCALENDAR
