BEGIN:VCALENDAR
VERSION:2.0
PRODID:-//Onderwatergroep Neptunus//NONSGML kigkonsult.se iCalcreator 2.30.
 10//
CALSCALE:GREGORIAN
METHOD:PUBLISH
UID:ddf37a84-96de-4994-8bd5-daa3dd0e4af2
X-WR-CALNAME:iCagenda
X-WR-CALDESC:Event Management Extension for Joomla!
X-WR-RELCALID:3E26604A-50F4-4449-8B3E-E4F4932D05B5
X-WR-TIMEZONE:Europe/Amsterdam
BEGIN:VTIMEZONE
TZID:Europe/Amsterdam
BEGIN:STANDARD
TZNAME:CET
DTSTART:20181028T030000
TZOFFSETFROM:+0200
TZOFFSETTO:+0100
RDATE:20191027T030000
END:STANDARD
BEGIN:DAYLIGHT
TZNAME:CEST
DTSTART:20180325T020000
TZOFFSETFROM:+0100
TZOFFSETTO:+0200
RDATE:20190331T020000
RDATE:20200329T020000
END:DAYLIGHT
END:VTIMEZONE
BEGIN:VEVENT
UID:ef7a131c-b3cd-4797-a3c7-1fb84a7d33de
DTSTAMP:20260420T233637Z
CATEGORIES:Opleidingen Buitenwater
CLASS:PUBLIC
DESCRIPTION:
DTSTART:20181124T160000Z
DTEND:20181124T170000Z
GEO:+52.281147;+6.801755
LOCATION:Twentebad Hengelo
ORGANIZER:
SEQUENCE:1
SUMMARY:Snorkelopleiding
TRANSP:OPAQUE
URL:https://www.owg-neptunus.nl/index.php/component/icagenda/433-snorkelopl
 eiding?Itemid=101
END:VEVENT
END:VCALENDAR
