BEGIN:VCALENDAR
VERSION:2.0
PRODID:-//Onderwatergroep Neptunus//NONSGML kigkonsult.se iCalcreator 2.30.
 10//
CALSCALE:GREGORIAN
METHOD:PUBLISH
UID:b90a2ef3-e6f9-46ff-b598-8c56c5f1589b
X-WR-CALNAME:iCagenda
X-WR-CALDESC:Event Management Extension for Joomla!
X-WR-RELCALID:3E26604A-50F4-4449-8B3E-E4F4932D05B5
X-WR-TIMEZONE:Europe/Amsterdam
BEGIN:VTIMEZONE
TZID:Europe/Amsterdam
BEGIN:STANDARD
TZNAME:CET
DTSTART:20181028T030000
TZOFFSETFROM:+0200
TZOFFSETTO:+0100
RDATE:20191027T030000
END:STANDARD
BEGIN:DAYLIGHT
TZNAME:CEST
DTSTART:20180325T020000
TZOFFSETFROM:+0100
TZOFFSETTO:+0200
RDATE:20190331T020000
RDATE:20200329T020000
END:DAYLIGHT
END:VTIMEZONE
BEGIN:VEVENT
UID:e24a792d-9cee-46bc-8a7d-87cb35753b13
DTSTAMP:20260421T015313Z
CATEGORIES:Doelgroepenbad
CLASS:PUBLIC
DESCRIPTION:
DTSTART:20190105T160000Z
DTEND:20190105T170000Z
GEO:+52.281147;+6.801755
LOCATION:
ORGANIZER:
SEQUENCE:1
SUMMARY:Snorkeltraining 17.00 - 18.00 uur
TRANSP:OPAQUE
URL:https://www.owg-neptunus.nl/index.php/component/icagenda/430-snorkeltra
 ining-17-00-18-00-uur?Itemid=101
END:VEVENT
END:VCALENDAR
