BEGIN:VCALENDAR
VERSION:2.0
PRODID:-//Onderwatergroep Neptunus//NONSGML kigkonsult.se iCalcreator 2.30.
 10//
CALSCALE:GREGORIAN
METHOD:PUBLISH
UID:5d56e42f-6907-46d2-b5e4-f4b6df44b321
X-WR-CALNAME:iCagenda
X-WR-CALDESC:Event Management Extension for Joomla!
X-WR-RELCALID:3E26604A-50F4-4449-8B3E-E4F4932D05B5
X-WR-TIMEZONE:Europe/Amsterdam
BEGIN:VTIMEZONE
TZID:Europe/Amsterdam
BEGIN:STANDARD
TZNAME:CET
DTSTART:20171029T030000
TZOFFSETFROM:+0200
TZOFFSETTO:+0100
RDATE:20181028T030000
RDATE:20191027T030000
END:STANDARD
BEGIN:DAYLIGHT
TZNAME:CEST
DTSTART:20180325T020000
TZOFFSETFROM:+0100
TZOFFSETTO:+0200
RDATE:20190331T020000
RDATE:20200329T020000
END:DAYLIGHT
END:VTIMEZONE
BEGIN:VEVENT
UID:8c73e22b-7364-438f-bb36-cd8e5f93d292
DTSTAMP:20260421T012117Z
CATEGORIES:Duiken Belangrijk
CLASS:PUBLIC
DESCRIPTION:
DTSTART:20181014T070000Z
DTEND:20181014T090000Z
GEO:+52.594421;+7.27936
LOCATION:
ORGANIZER:
SEQUENCE:1
SUMMARY:Buitenduik Lingen 9.00 uur (vervallen)
TRANSP:OPAQUE
URL:https://www.owg-neptunus.nl/index.php/component/icagenda/414-buitenduik
 -lingen-9-00-uur?Itemid=101
END:VEVENT
END:VCALENDAR
