BEGIN:VCALENDAR
VERSION:2.0
PRODID:-//Onderwatergroep Neptunus//NONSGML kigkonsult.se iCalcreator 2.30.
 10//
CALSCALE:GREGORIAN
METHOD:PUBLISH
UID:dd51c86a-3e57-41b5-a09b-92ac5b8e6b9a
X-WR-CALNAME:iCagenda
X-WR-CALDESC:Event Management Extension for Joomla!
X-WR-RELCALID:3E26604A-50F4-4449-8B3E-E4F4932D05B5
X-WR-TIMEZONE:Europe/Amsterdam
BEGIN:VTIMEZONE
TZID:Europe/Amsterdam
BEGIN:STANDARD
TZNAME:CET
DTSTART:20171029T030000
TZOFFSETFROM:+0200
TZOFFSETTO:+0100
RDATE:20181028T030000
RDATE:20191027T030000
END:STANDARD
BEGIN:DAYLIGHT
TZNAME:CEST
DTSTART:20180325T020000
TZOFFSETFROM:+0100
TZOFFSETTO:+0200
RDATE:20190331T020000
RDATE:20200329T020000
END:DAYLIGHT
END:VTIMEZONE
BEGIN:VEVENT
UID:7c581857-08df-4cb7-bad3-9e66f3436f84
DTSTAMP:20260421T042920Z
CATEGORIES:Duiken
CLASS:PUBLIC
DESCRIPTION:
DTSTART:20180930T080000Z
DTEND:20180930T100000Z
GEO:+51.894352;+5.78898
LOCATION:Slijk-Ewijk
ORGANIZER:
SEQUENCE:1
SUMMARY:Buitenduik Slijk-Ewijk\, 10.00 uur
TRANSP:OPAQUE
URL:https://www.owg-neptunus.nl/index.php/component/icagenda/412-buitenduik
 -slijk-ewijk?Itemid=101
END:VEVENT
END:VCALENDAR
