BEGIN:VCALENDAR
VERSION:2.0
PRODID:-//Onderwatergroep Neptunus//NONSGML kigkonsult.se iCalcreator 2.30.
 10//
CALSCALE:GREGORIAN
METHOD:PUBLISH
UID:51667537-26cd-434a-b367-b874d00f6aba
X-WR-CALNAME:iCagenda
X-WR-CALDESC:Event Management Extension for Joomla!
X-WR-RELCALID:3E26604A-50F4-4449-8B3E-E4F4932D05B5
X-WR-TIMEZONE:Europe/Amsterdam
BEGIN:VTIMEZONE
TZID:Europe/Amsterdam
BEGIN:STANDARD
TZNAME:CET
DTSTART:20171029T030000
TZOFFSETFROM:+0200
TZOFFSETTO:+0100
RDATE:20181028T030000
RDATE:20191027T030000
END:STANDARD
BEGIN:DAYLIGHT
TZNAME:CEST
DTSTART:20180325T020000
TZOFFSETFROM:+0100
TZOFFSETTO:+0200
RDATE:20190331T020000
END:DAYLIGHT
END:VTIMEZONE
BEGIN:VEVENT
UID:ccb71051-d432-42ae-bfc7-e5f1421d6afb
DTSTAMP:20260421T025221Z
CATEGORIES:Duiken
CLASS:PUBLIC
DESCRIPTION:
DTSTART:20180923T080000Z
DTEND:20180923T100000Z
GEO:+52.196938;+6.119667
LOCATION:Bussloo
ORGANIZER:
SEQUENCE:1
SUMMARY:Buitenduik Bussloo\, 10.00 uur
TRANSP:OPAQUE
URL:https://www.owg-neptunus.nl/index.php/component/icagenda/411-buitenduik
 -bussloo-10-00-uur?Itemid=101
END:VEVENT
END:VCALENDAR
