BEGIN:VCALENDAR
VERSION:2.0
PRODID:-//Onderwatergroep Neptunus//NONSGML kigkonsult.se iCalcreator 2.30.
 10//
CALSCALE:GREGORIAN
METHOD:PUBLISH
UID:a13f7b33-1921-4e94-81c1-799af71bacf9
X-WR-CALNAME:iCagenda
X-WR-CALDESC:Event Management Extension for Joomla!
X-WR-RELCALID:3E26604A-50F4-4449-8B3E-E4F4932D05B5
X-WR-TIMEZONE:Europe/Amsterdam
BEGIN:VTIMEZONE
TZID:Europe/Amsterdam
BEGIN:STANDARD
TZNAME:CET
DTSTART:20171029T030000
TZOFFSETFROM:+0200
TZOFFSETTO:+0100
RDATE:20181028T030000
RDATE:20191027T030000
END:STANDARD
BEGIN:DAYLIGHT
TZNAME:CEST
DTSTART:20180325T020000
TZOFFSETFROM:+0100
TZOFFSETTO:+0200
RDATE:20190331T020000
END:DAYLIGHT
END:VTIMEZONE
BEGIN:VEVENT
UID:f2de935b-c5e4-4807-94ed-30e8f9d8000e
DTSTAMP:20260421T060318Z
CATEGORIES:Duiken Belangrijk
CLASS:PUBLIC
DESCRIPTION:
DTSTART:20180916T070000Z
DTEND:20180916T100000Z
GEO:+52.594421;+7.27936
LOCATION:Lingen\, Duitsland
ORGANIZER:
SEQUENCE:1
SUMMARY:Buitenduik Lingen 9.00 uur!
TRANSP:OPAQUE
URL:https://www.owg-neptunus.nl/index.php/component/icagenda/408-buitenduik
 ?Itemid=101
END:VEVENT
END:VCALENDAR
