BEGIN:VCALENDAR
VERSION:2.0
PRODID:-//Onderwatergroep Neptunus//NONSGML kigkonsult.se iCalcreator 2.30.
 10//
CALSCALE:GREGORIAN
METHOD:PUBLISH
UID:9520c26b-6d79-4570-b2b3-a4c4d3088915
X-WR-CALNAME:iCagenda
X-WR-CALDESC:Event Management Extension for Joomla!
X-WR-RELCALID:3E26604A-50F4-4449-8B3E-E4F4932D05B5
X-WR-TIMEZONE:Europe/Amsterdam
BEGIN:VTIMEZONE
TZID:Europe/Amsterdam
BEGIN:STANDARD
TZNAME:CET
DTSTART:20171029T030000
TZOFFSETFROM:+0200
TZOFFSETTO:+0100
RDATE:20181028T030000
RDATE:20191027T030000
END:STANDARD
BEGIN:DAYLIGHT
TZNAME:CEST
DTSTART:20180325T020000
TZOFFSETFROM:+0100
TZOFFSETTO:+0200
RDATE:20190331T020000
END:DAYLIGHT
END:VTIMEZONE
BEGIN:VEVENT
UID:06319763-af11-45a5-a1ff-4fc6a224ad8d
DTSTAMP:20260421T025819Z
CATEGORIES:Evenementen
CLASS:PUBLIC
DESCRIPTION;ALTREP="CID:<FFFF__=0ABBE548DFE235B58f9e8a93d@coffeebean.com>":
  \nLoop je met de gedachte om eens te gaan duiken\, maar weet je niet wat 
 het precies allemaal is\, kom dan een introductieduik maken die door onze 
 duikvereniging Neptunus in het Twentebad wordt verzorgd.  Een introductied
 uik bestaat uit een klein stukje theorie wat nodig is om veilig in het zwe
 mbad met perslucht te kunnen zwemmen en een duik met persluchtset in het z
 wembad. Zo kun je zelf ervaren hoe het is om onder water te verblijven.\n 
 \n\nDeze gratis introductieduiken worden georganiseerd op zaterdag 22 sept
 ember en 6 oktober 2018 van 16.00 uur tot 18.00 uur in het Twentebad te He
 ngelo. Per zaterdag kunnen we bij deze introductieduik maximaal 8 volwasse
 n deelnemers begeleiden.  Wil je hieraan mee doen stuur ons een mail (info
 @owg-neptunus.nl) en we nemen zo spoedig mogelijk contact met je op.\n\n 
DTSTART:20180922T140000Z
DTEND:20180922T160000Z
GEO:+52.281139;+6.801318
LOCATION:
ORGANIZER:
SEQUENCE:1
SUMMARY:Introductieduik voor belangstellenden
TRANSP:OPAQUE
URL:https://www.owg-neptunus.nl/index.php/component/icagenda/402-introducti
 eduik-nieuwe-leden/2018-09-22-16-00?Itemid=101
END:VEVENT
END:VCALENDAR
