BEGIN:VCALENDAR
VERSION:2.0
PRODID:-//Onderwatergroep Neptunus//NONSGML kigkonsult.se iCalcreator 2.30.
 10//
CALSCALE:GREGORIAN
METHOD:PUBLISH
UID:09db2545-98ef-4825-a149-e314940ac789
X-WR-CALNAME:iCagenda
X-WR-CALDESC:Event Management Extension for Joomla!
X-WR-RELCALID:3E26604A-50F4-4449-8B3E-E4F4932D05B5
X-WR-TIMEZONE:Europe/Amsterdam
BEGIN:VTIMEZONE
TZID:Europe/Amsterdam
BEGIN:STANDARD
TZNAME:CET
DTSTART:20171029T030000
TZOFFSETFROM:+0200
TZOFFSETTO:+0100
RDATE:20181028T030000
RDATE:20191027T030000
END:STANDARD
BEGIN:DAYLIGHT
TZNAME:CEST
DTSTART:20180325T020000
TZOFFSETFROM:+0100
TZOFFSETTO:+0200
RDATE:20190331T020000
END:DAYLIGHT
END:VTIMEZONE
BEGIN:VEVENT
UID:2a8cac6b-ac19-4c04-ac2a-4b3f6e0335f0
DTSTAMP:20260420T204430Z
CATEGORIES:Dive World
CLASS:PUBLIC
DESCRIPTION;ALTREP="CID:<FFFF__=0ABBE548DFE235B58f9e8a93d@coffeebean.com>":
 19:00-21:00 Dive world
DTSTART:20180511T170000Z
DTEND:20180511T190000Z
GEO:+52.23938;+6.833348
LOCATION:Duiktoren
ORGANIZER:
SEQUENCE:1
SUMMARY:Dive world
TRANSP:OPAQUE
URL:https://www.owg-neptunus.nl/index.php/component/icagenda/400-Dive_world
 ?Itemid=101
END:VEVENT
END:VCALENDAR
