BEGIN:VCALENDAR
VERSION:2.0
PRODID:-//Onderwatergroep Neptunus//NONSGML kigkonsult.se iCalcreator 2.30.
 10//
CALSCALE:GREGORIAN
METHOD:PUBLISH
UID:ade336d7-fa7b-4ecd-86e4-f146d0a44d90
X-WR-CALNAME:iCagenda
X-WR-CALDESC:Event Management Extension for Joomla!
X-WR-RELCALID:3E26604A-50F4-4449-8B3E-E4F4932D05B5
X-WR-TIMEZONE:Europe/Amsterdam
BEGIN:VTIMEZONE
TZID:Europe/Amsterdam
BEGIN:STANDARD
TZNAME:CET
DTSTART:20171029T030000
TZOFFSETFROM:+0200
TZOFFSETTO:+0100
RDATE:20181028T030000
RDATE:20191027T030000
END:STANDARD
BEGIN:DAYLIGHT
TZNAME:CEST
DTSTART:20180325T020000
TZOFFSETFROM:+0100
TZOFFSETTO:+0200
RDATE:20190331T020000
END:DAYLIGHT
END:VTIMEZONE
BEGIN:VEVENT
UID:20db3659-e283-40bd-9b2b-a61c61c9e56e
DTSTAMP:20260420T204420Z
CATEGORIES:Doelgroepenbad Belangrijk
CLASS:PUBLIC
DESCRIPTION;ALTREP="CID:<FFFF__=0ABBE548DFE235B58f9e8a93d@coffeebean.com>":
 17:00-18:00 Zeeland weekend
DTSTART:20180623T150000Z
DTEND:20180623T160000Z
GEO:+52.281242;+6.801934
LOCATION:Twentebad
ORGANIZER:
SEQUENCE:1
SUMMARY:Zeelandweekend
TRANSP:OPAQUE
URL:https://www.owg-neptunus.nl/index.php/component/icagenda/381-Zeelandwee
 kend?Itemid=101
END:VEVENT
END:VCALENDAR
