BEGIN:VCALENDAR
VERSION:2.0
PRODID:-//Onderwatergroep Neptunus//NONSGML kigkonsult.se iCalcreator 2.30.
 10//
CALSCALE:GREGORIAN
METHOD:PUBLISH
UID:4ddb2ab7-08d7-46e1-b115-4a006c335e01
X-WR-CALNAME:iCagenda
X-WR-CALDESC:Event Management Extension for Joomla!
X-WR-RELCALID:3E26604A-50F4-4449-8B3E-E4F4932D05B5
X-WR-TIMEZONE:Europe/Amsterdam
BEGIN:VTIMEZONE
TZID:Europe/Amsterdam
BEGIN:STANDARD
TZNAME:CET
DTSTART:20171029T030000
TZOFFSETFROM:+0200
TZOFFSETTO:+0100
RDATE:20181028T030000
RDATE:20191027T030000
END:STANDARD
BEGIN:DAYLIGHT
TZNAME:CEST
DTSTART:20180325T020000
TZOFFSETFROM:+0100
TZOFFSETTO:+0200
RDATE:20190331T020000
END:DAYLIGHT
END:VTIMEZONE
BEGIN:VEVENT
UID:b9720116-2ff1-4bb0-8091-15382dec9513
DTSTAMP:20260420T204424Z
CATEGORIES:Doelgroepenbad Belangrijk
CLASS:PUBLIC
DESCRIPTION;ALTREP="CID:<FFFF__=0ABBE548DFE235B58f9e8a93d@coffeebean.com>":
 17:00-18:00 Training dag er voor in dij DiveWorld
DTSTART:20180512T150000Z
DTEND:20180512T160000Z
GEO:+52.281242;+6.801934
LOCATION:Twentebad
ORGANIZER:
SEQUENCE:1
SUMMARY:Geen Training
TRANSP:OPAQUE
URL:https://www.owg-neptunus.nl/index.php/component/icagenda/375-Geen_Train
 ing?Itemid=101
END:VEVENT
END:VCALENDAR
