BEGIN:VCALENDAR
VERSION:2.0
PRODID:-//Onderwatergroep Neptunus//NONSGML kigkonsult.se iCalcreator 2.30.
 10//
CALSCALE:GREGORIAN
METHOD:PUBLISH
UID:58425ff7-5861-4133-a34a-36bd72f481e8
X-WR-CALNAME:iCagenda
X-WR-CALDESC:Event Management Extension for Joomla!
X-WR-RELCALID:3E26604A-50F4-4449-8B3E-E4F4932D05B5
X-WR-TIMEZONE:Europe/Amsterdam
BEGIN:VTIMEZONE
TZID:Europe/Amsterdam
BEGIN:STANDARD
TZNAME:CET
DTSTART:20171029T030000
TZOFFSETFROM:+0200
TZOFFSETTO:+0100
RDATE:20181028T030000
END:STANDARD
BEGIN:DAYLIGHT
TZNAME:CEST
DTSTART:20170326T020000
TZOFFSETFROM:+0100
TZOFFSETTO:+0200
RDATE:20180325T020000
RDATE:20190331T020000
END:DAYLIGHT
END:VTIMEZONE
BEGIN:VEVENT
UID:f4f10705-980d-4114-b194-76a1f41e4af7
DTSTAMP:20260421T030832Z
CATEGORIES:Doelgroepenbad Belangrijk
CLASS:PUBLIC
DESCRIPTION;ALTREP="CID:<FFFF__=0ABBE548DFE235B58f9e8a93d@coffeebean.com>":
 17:00-18:00 Training dag er voor in dij DiveWorld
DTSTART:20180113T160000Z
DTEND:20180113T170000Z
GEO:+52.281242;+6.801934
LOCATION:Twentebad
ORGANIZER:
SEQUENCE:1
SUMMARY:Geen Training
TRANSP:OPAQUE
URL:https://www.owg-neptunus.nl/index.php/component/icagenda/358-Geen_Train
 ing?Itemid=101
END:VEVENT
END:VCALENDAR
