BEGIN:VCALENDAR
VERSION:2.0
PRODID:-//Onderwatergroep Neptunus//NONSGML kigkonsult.se iCalcreator 2.30.
 10//
CALSCALE:GREGORIAN
METHOD:PUBLISH
UID:a537dee1-1cbd-4384-bf08-cabef7c1c7d1
X-WR-CALNAME:iCagenda
X-WR-CALDESC:Event Management Extension for Joomla!
X-WR-RELCALID:3E26604A-50F4-4449-8B3E-E4F4932D05B5
X-WR-TIMEZONE:Europe/Amsterdam
BEGIN:VTIMEZONE
TZID:Europe/Amsterdam
BEGIN:STANDARD
TZNAME:CET
DTSTART:20171029T030000
TZOFFSETFROM:+0200
TZOFFSETTO:+0100
RDATE:20181028T030000
END:STANDARD
BEGIN:DAYLIGHT
TZNAME:CEST
DTSTART:20170326T020000
TZOFFSETFROM:+0100
TZOFFSETTO:+0200
RDATE:20180325T020000
RDATE:20190331T020000
END:DAYLIGHT
END:VTIMEZONE
BEGIN:VEVENT
UID:24a5cd65-3f57-4ff4-b1a8-52410467e7b5
DTSTAMP:20260421T010855Z
CATEGORIES:Dive World
CLASS:PUBLIC
DESCRIPTION;ALTREP="CID:<FFFF__=0ABBE548DFE235B58f9e8a93d@coffeebean.com>":
 19:00-21:00 Trainer: Rene Bijkerk. In de duiktoren van Dive-World
DTSTART:20171110T180000Z
DTEND:20171110T200000Z
GEO:+52.23938;+6.833348
LOCATION:Duiktoren
ORGANIZER;CN=Rene Bijkerk:rene@zandsteenweg.demon.nl
SEQUENCE:1
SUMMARY:Flessen training
TRANSP:OPAQUE
URL:https://www.owg-neptunus.nl/index.php/component/icagenda/324-Flessen_tr
 aining?Itemid=101
END:VEVENT
END:VCALENDAR
