BEGIN:VCALENDAR
VERSION:2.0
PRODID:-//Onderwatergroep Neptunus//NONSGML kigkonsult.se iCalcreator 2.30.
 10//
CALSCALE:GREGORIAN
METHOD:PUBLISH
UID:6c25acf8-728e-4df2-a0a5-ffa960761fca
X-WR-CALNAME:iCagenda
X-WR-CALDESC:Event Management Extension for Joomla!
X-WR-RELCALID:3E26604A-50F4-4449-8B3E-E4F4932D05B5
X-WR-TIMEZONE:Europe/Amsterdam
BEGIN:VTIMEZONE
TZID:Europe/Amsterdam
BEGIN:STANDARD
TZNAME:CET
DTSTART:20161030T030000
TZOFFSETFROM:+0200
TZOFFSETTO:+0100
RDATE:20171029T030000
RDATE:20181028T030000
END:STANDARD
BEGIN:DAYLIGHT
TZNAME:CEST
DTSTART:20170326T020000
TZOFFSETFROM:+0100
TZOFFSETTO:+0200
RDATE:20180325T020000
RDATE:20190331T020000
END:DAYLIGHT
END:VTIMEZONE
BEGIN:VEVENT
UID:62f7ed0b-2b57-438e-aa0e-bdb4d4e89f2f
DTSTAMP:20260421T023410Z
CATEGORIES:Doelgroepenbad
CLASS:PUBLIC
DESCRIPTION;ALTREP="CID:<FFFF__=0ABBE548DFE235B58f9e8a93d@coffeebean.com>":
 17:00-18:00 Trainer: Ernst van Ommen.
DTSTART:20171028T150000Z
DTEND:20171028T160000Z
GEO:+52.281242;+6.801934
LOCATION:Twentebad
ORGANIZER;CN=Ernst van Ommen:evan_ommen@yahoo.co.uk
SEQUENCE:1
SUMMARY:Training
TRANSP:OPAQUE
URL:https://www.owg-neptunus.nl/index.php/component/icagenda/284-Training?I
 temid=101
END:VEVENT
END:VCALENDAR
