BEGIN:VCALENDAR
VERSION:2.0
PRODID:-//Onderwatergroep Neptunus//NONSGML kigkonsult.se iCalcreator 2.30.
 10//
CALSCALE:GREGORIAN
METHOD:PUBLISH
UID:655ddc86-445f-4768-92a1-ab543c0c2ed9
X-WR-CALNAME:iCagenda
X-WR-CALDESC:Event Management Extension for Joomla!
X-WR-RELCALID:3E26604A-50F4-4449-8B3E-E4F4932D05B5
X-WR-TIMEZONE:Europe/Amsterdam
BEGIN:VTIMEZONE
TZID:Europe/Amsterdam
BEGIN:STANDARD
TZNAME:CET
DTSTART:20251026T030000
TZOFFSETFROM:+0200
TZOFFSETTO:+0100
RDATE:20261025T030000
RDATE:20271031T030000
END:STANDARD
BEGIN:DAYLIGHT
TZNAME:CEST
DTSTART:20260329T020000
TZOFFSETFROM:+0100
TZOFFSETTO:+0200
RDATE:20270328T020000
END:DAYLIGHT
END:VTIMEZONE
BEGIN:VEVENT
UID:46a5016f-b121-41c1-aaa3-e303e934dda4
DTSTAMP:20260420T070346Z
CATEGORIES:Training 50m sportbad
CLASS:PUBLIC
DESCRIPTION:
DTSTART:20260530T163000Z
DTEND:20260530T173000Z
GEO:00;0
LOCATION:
ORGANIZER:
SEQUENCE:1
SUMMARY:Training 50m sportbad\, let op 18:30 beginnen!
TRANSP:OPAQUE
URL:https://www.owg-neptunus.nl/index.php/agenda/training/961-training-50m-
 sportbad-let-op-18-30-beginnen-2
END:VEVENT
END:VCALENDAR
