BEGIN:VCALENDAR
VERSION:2.0
PRODID:-//Onderwatergroep Neptunus//NONSGML kigkonsult.se iCalcreator 2.30.
 10//
CALSCALE:GREGORIAN
METHOD:PUBLISH
UID:eeb68fc5-3081-4a51-b7e0-4ca986b9e3a7
X-WR-CALNAME:iCagenda
X-WR-CALDESC:Event Management Extension for Joomla!
X-WR-RELCALID:3E26604A-50F4-4449-8B3E-E4F4932D05B5
X-WR-TIMEZONE:Europe/Amsterdam
BEGIN:VTIMEZONE
TZID:Europe/Amsterdam
BEGIN:STANDARD
TZNAME:CET
DTSTART:20251026T030000
TZOFFSETFROM:+0200
TZOFFSETTO:+0100
RDATE:20261025T030000
RDATE:20271031T030000
END:STANDARD
BEGIN:DAYLIGHT
TZNAME:CEST
DTSTART:20260329T020000
TZOFFSETFROM:+0100
TZOFFSETTO:+0200
RDATE:20270328T020000
END:DAYLIGHT
END:VTIMEZONE
BEGIN:VEVENT
UID:a6d69bf0-db81-425f-b50e-4dc2c3453a30
DTSTAMP:20260420T090429Z
CATEGORIES:Duiken
CLASS:PUBLIC
DESCRIPTION;ALTREP="CID:<FFFF__=0ABBE548DFE235B58f9e8a93d@coffeebean.com>":
 Note: op de locatie Lingen moeten we vroeger aanwezig zijn in verband met 
 de beperkte parkeergelegenheid.
DTSTART:20260607T070000Z
DTEND:20260607T090000Z
GEO:00;0
LOCATION:
ORGANIZER:
SEQUENCE:1
SUMMARY:Buitenduik Lingen (Geeste)
TRANSP:OPAQUE
URL:https://www.owg-neptunus.nl/index.php/agenda/buitenduiken/977-buitendui
 k-lingen-geeste-8
END:VEVENT
END:VCALENDAR
